 BEGIN:VCALENDAR
VERSION:2.0
PRODID:-//Sivánanda Jógaközpont - ECPv6.15.18//NONSGML v1.0//EN
CALSCALE:GREGORIAN
METHOD:PUBLISH
X-WR-CALNAME:Sivánanda Jógaközpont
X-ORIGINAL-URL:https://sivananda.hu
X-WR-CALDESC:Események Sivánanda Jógaközpont
REFRESH-INTERVAL;VALUE=DURATION:PT1H
X-Robots-Tag:noindex
X-PUBLISHED-TTL:PT1H
BEGIN:VTIMEZONE
TZID:Europe/Budapest
BEGIN:DAYLIGHT
TZOFFSETFROM:+0100
TZOFFSETTO:+0200
TZNAME:CEST
DTSTART:20250330T010000
END:DAYLIGHT
BEGIN:STANDARD
TZOFFSETFROM:+0200
TZOFFSETTO:+0100
TZNAME:CET
DTSTART:20251026T010000
END:STANDARD
BEGIN:DAYLIGHT
TZOFFSETFROM:+0100
TZOFFSETTO:+0200
TZNAME:CEST
DTSTART:20260329T010000
END:DAYLIGHT
BEGIN:STANDARD
TZOFFSETFROM:+0200
TZOFFSETTO:+0100
TZNAME:CET
DTSTART:20261025T010000
END:STANDARD
BEGIN:DAYLIGHT
TZOFFSETFROM:+0100
TZOFFSETTO:+0200
TZNAME:CEST
DTSTART:20270328T010000
END:DAYLIGHT
BEGIN:STANDARD
TZOFFSETFROM:+0200
TZOFFSETTO:+0100
TZNAME:CET
DTSTART:20271031T010000
END:STANDARD
END:VTIMEZONE
BEGIN:VEVENT
DTSTART;TZID=Europe/Budapest:20260420T053000
DTEND;TZID=Europe/Budapest:20260420T060000
DTSTAMP:20260420T123829
CREATED:20250227T093132Z
LAST-MODIFIED:20250227T095717Z
UID:10014249-1776663000-1776664800@sivananda.hu
SUMMARY:INGYENES REGGELI MEDITÁCIÓ OMKĀRÁVAL (ONLINE)
DESCRIPTION:Ingyenes reggeli meditáció OMKĀRÁVAL (online) 2023. január 20-tól minden nap.\n\n\n\nA belső béke és nyugalom technikáival szolgáljuk a meditáció iránt nyitott embertársainkat a következő program szerint:\n1. 05:25-05:30 Bejelentkezés linkkel\, bekapcsolt kamerával és látható arccal (egyedi kivétel egészségi okok miatt\, előzetes megbeszélés után).\n2. 05:30-05:50 Meditáció\n3. 05:50-06:00 Napi tanítás\, elköszönés\nKérjük\, hogy a biztos kapcsolat létrejöttéhez időben légy jelen\, a kezdés előtt pár perccel már kezdd meg a csatlakozást\, így elkerülve az esetleges technikai túlterheltséget! Köszönjük!\n\n\nFontos\, hogy ez közös meditáció és nem meditációs képzés. \nA program ingyenes\, de az éves szinten több\, mint 400 ingyenes programunk fenntarthatóságához\, Alapítványunk küldetésének ellátásához szívesen fogadunk adományokat közhasznú céljainkra. Nevünk: Spirituart Jóga Alapítvány Számlaszámunk: 16200106-11604543\n\n\nA sikeres csatlakozás feltétele Google fiók megléte!\nBecsatlakozás reggelenként 05:25-05:30 között ezzel a linkkel:\nhttps://meet.google.com/ocb-jvpc-ctv\n\nSzeretettel vár Omkāra!
URL:https://sivananda.hu/esemeny/ingyenes-reggeli-meditacio-omkaraval-online-2-2/2026-04-20/
LOCATION:Online
CATEGORIES:Filozófia,Gyakorló óra,Ingyenes,Meditáció
ATTACH;FMTTYPE=image/jpeg:https://sivananda.hu/wp-content/uploads/2024/11/menyik-uton-menjek.jpg
GEO:47.5489752;18.9649448
END:VEVENT
BEGIN:VEVENT
DTSTART;TZID=Europe/Budapest:20260420T180000
DTEND;TZID=Europe/Budapest:20260420T200000
DTSTAMP:20260420T123829
CREATED:20250227T094245Z
LAST-MODIFIED:20260330T224904Z
UID:10013833-1776708000-1776715200@sivananda.hu
SUMMARY:Gerincterápiás jógaóra
DESCRIPTION:GERINCTERÁPIÁS jógaóra\nEz a jógaórát azoknak ajánljuk elsősorban\, akik elvégezték a “Gerincterápiás jóga alaptanfolyamunkat” és szeretnének problémájukra hatékony és biztonságos jóga gyakorlást végezni. Akiknek tartáshibájuk vagy olyan gerincbetegségük van\, melyek nem teszik lehetővé a “sima” jóga gyakorlást és megkövetelik a gerincről speciális ismeretekkel rendelkező jógaoktatókat. \nEzeket az órákat  “Gerincterápiás jógaoktatóink” tartják\, akik  100 órás oktatói továbbképzésen szereztek gerincterápiás ismereteket. Szakszerűen tudják jógáztatni a komolyabb gerincbántalmakkal rendelkezőket (pl. porckorongsérveseket) is. Ezeken a gyakorló órákon olyan gyakorlatok és ászanák is előfordulnak\, melyek nem szerepelnek a Sivananda alaptanfolyamon és  -gyakorlókon\, sem a Gerincbarát jóga gyakorlókon. \nItt is van relaxáció\, meditáció\, végzünk légzőgyakorlatokat\, valamint mindenki számára biztonságosan felépített\, terápiás feladatsorokat a gerincre. \nA leírt gerincterápiás gyakorló foglalkozás 120 perces. \n„Alapvetően a jógatechnikák szintézise az\, ami megtestesíti nemcsak a számos módszert\, melyek teljesen megelevenítik a testet\, hogy az megőrizze erejét\, energiáját\, vitalitását\, hanem ellenőrzés alá vonja az elme kifelé irányuló hajlamát is. Javítja az intellektuális képességeket\, de ezek mellett magában foglalja a meditációt és az önmegvalósítás folyamatát\, melyekhez az ászanák (testgyakorlatok) és a pránájámák (légzés szabályozás) megteremtik az egyéni feltételeket és képességeket.” \n„Az ászanák nem pusztán testgyakorlatok. A test és az elme szoros kapcsolatban vannak egymással\, ezért a különféle testhelyzetek arra valók\, hogy a prána\, az életenergia akadálymentesen\, könnyedén áramolhasson. Természetesen vannak egyéb jótékony hatások is\, mint pl. a ragyogó fizikai egészség\, a megnövekedett izomhossz\, izomerő és a tartási hibák kijavítása. Mindenféle mellékes jó hatásai is vannak\, de az ászanák célja mégis\, az hogy ezt az energiát a legalacsonyabbtól a legmagasabb szintig emeljék.” -Szvámí Visnu-dévánanda \nVáljon kedves teljességedre!\nAUM Namah Sivája
URL:https://sivananda.hu/esemeny/gerincterapias-jogaora-8/
LOCATION:Sivananda Jógaközpont\, Szegfű utca 2.\, Budapest\, Pest\, 1028\, Hungary
CATEGORIES:Gerincterápiás,Gyakorló óra
ATTACH;FMTTYPE=image/jpeg:https://sivananda.hu/wp-content/uploads/2024/11/gerinc.jpg
END:VEVENT
BEGIN:VEVENT
DTSTART;TZID=Europe/Budapest:20260420T183000
DTEND;TZID=Europe/Budapest:20260420T203000
DTSTAMP:20260420T123829
CREATED:20241123T153738Z
LAST-MODIFIED:20260410T102645Z
UID:10012800-1776709800-1776717000@sivananda.hu
SUMMARY:Hatha jógaóra
DESCRIPTION:Hatha jógaóra\nA hatha jógaóra foglalkozásokon kellemes légkörben gyakorolhatod az alaptanfolyamon elsajátított ászanákat (jógagyakorlatokat) és pránájámákat (jóga légzőgyakorlatokat)\, egyre tovább fejlesztve azokat. \n „Alapvetően a jógatechnikák szintézise az\, ami megtestesíti nemcsak a számos módszert\, melyek teljesen megelevenítik a testet\, hogy az megőrizze erejét\, energiáját\, vitalitását\, hanem ellenőrzés alá vonja az elme kifelé irányuló hajlamát is. Javítja az intellektuális képességeket\, de ezek mellett magában foglalja a meditációt és az önmegvalósítás folyamatát\, melyekhez az ászanák (testgyakorlatok) és a pránájámák (légzés szabályozás) megteremtik az egyéni feltételeket és képességeket.” – Szvámí Visnu-dévánanda \nFELÉPÍTÉS\n\nRelaxáció: Teljes ellazulás fizikai\, mentális és lelki szinten.\nMeditáció: Segítségével megszabadulhatunk minden negatív tulajdonságunktól\, a belső harmónia és béke állandósul bennünk.\nElőkészítő gyakorlatok: Átmozgatjuk szemizmainkat és nyakizmainkat.\nPránájámák: Légzőgyakorlatok\, amelyek segítségével életvidámak és energikusak lehetünk.\nSzúrja namaszkára – Napüdvözlet bemelegítő\, energetizáló sor.\n12 alapászana: Az ászanák vagy testhelyzetek a vázizmok fejlődése mellett hatással vannak belső szerveink működésére is\, így fenntartva vagy helyreállítva egészségünket. Mi a mesterünk által összeállított ászanasort gyakoroljuk.\nKírtana: a mai kor embere számára a jóga leghatékonyabb eszköze: közösségben együtt énekelni Isten neveit. Ettől hatalmas erő keletkezik\, mely az egyénre és az egész világra egyaránt jótékony hatással van:\n\n„Felemelő gondolatokat ébresztenek mások elméjében\, vigaszt és erőt nyújtanak minden embernek\, békét\, harmóniát\, egyetértést teremtenek. A negatív erőket gyorsan megsemmisítik\, és boldogságot hoznak az egész világnak.” – Szvámí Sivánanda \nVáljon kedves teljességedre!\nAUM Namah Sivája \nBÉRLETEK\nVálaszthatsz a bérletek közül kedvedre: \n\n5 alkalmas (2 hónapig érvényes)\n10 alkalmas (10 hétig érvényes)\nHavi korlátlan\n3 havi korlátlan\nÉves korlátlan\n\nTAGDÍJAK ÉS TAGI KEDVEZMÉNYEK ÉRVÉNYESÍTÉSE\nTagdíjak befizetése csak helyszínen\, a Sivananda Jógaközpontban lehetséges.\nTagsággal járó kedvezményes jegyeket\, bérleteket szintén csak a helyszínen\, a Sivananda Jógaközpontban lehetséges megvásárolni.\nMegértéseteket köszönjük!
URL:https://sivananda.hu/esemeny/hatha-jogaora-120-perc-3/
LOCATION:Sivananda Jógaközpont\, Szegfű utca 2.\, Budapest\, Pest\, 1028\, Hungary
CATEGORIES:Gyakorló óra
ATTACH;FMTTYPE=image/jpeg:https://sivananda.hu/wp-content/uploads/2024/11/joga-gyakorlo-120.jpg
END:VEVENT
END:VCALENDAR