 BEGIN:VCALENDAR
VERSION:2.0
PRODID:-//Sivánanda Jógaközpont - ECPv6.15.18//NONSGML v1.0//EN
CALSCALE:GREGORIAN
METHOD:PUBLISH
X-WR-CALNAME:Sivánanda Jógaközpont
X-ORIGINAL-URL:https://sivananda.hu
X-WR-CALDESC:Események Sivánanda Jógaközpont
REFRESH-INTERVAL;VALUE=DURATION:PT1H
X-Robots-Tag:noindex
X-PUBLISHED-TTL:PT1H
BEGIN:VTIMEZONE
TZID:Europe/Budapest
BEGIN:DAYLIGHT
TZOFFSETFROM:+0100
TZOFFSETTO:+0200
TZNAME:CEST
DTSTART:20250330T010000
END:DAYLIGHT
BEGIN:STANDARD
TZOFFSETFROM:+0200
TZOFFSETTO:+0100
TZNAME:CET
DTSTART:20251026T010000
END:STANDARD
BEGIN:DAYLIGHT
TZOFFSETFROM:+0100
TZOFFSETTO:+0200
TZNAME:CEST
DTSTART:20260329T010000
END:DAYLIGHT
BEGIN:STANDARD
TZOFFSETFROM:+0200
TZOFFSETTO:+0100
TZNAME:CET
DTSTART:20261025T010000
END:STANDARD
BEGIN:DAYLIGHT
TZOFFSETFROM:+0100
TZOFFSETTO:+0200
TZNAME:CEST
DTSTART:20270328T010000
END:DAYLIGHT
BEGIN:STANDARD
TZOFFSETFROM:+0200
TZOFFSETTO:+0100
TZNAME:CET
DTSTART:20271031T010000
END:STANDARD
END:VTIMEZONE
BEGIN:VEVENT
DTSTART;TZID=Europe/Budapest:20260420T183000
DTEND;TZID=Europe/Budapest:20260420T203000
DTSTAMP:20260419T211416
CREATED:20241123T153738Z
LAST-MODIFIED:20260410T102645Z
UID:10012800-1776709800-1776717000@sivananda.hu
SUMMARY:Hatha jógaóra
DESCRIPTION:Hatha jógaóra\nA hatha jógaóra foglalkozásokon kellemes légkörben gyakorolhatod az alaptanfolyamon elsajátított ászanákat (jógagyakorlatokat) és pránájámákat (jóga légzőgyakorlatokat)\, egyre tovább fejlesztve azokat. \n „Alapvetően a jógatechnikák szintézise az\, ami megtestesíti nemcsak a számos módszert\, melyek teljesen megelevenítik a testet\, hogy az megőrizze erejét\, energiáját\, vitalitását\, hanem ellenőrzés alá vonja az elme kifelé irányuló hajlamát is. Javítja az intellektuális képességeket\, de ezek mellett magában foglalja a meditációt és az önmegvalósítás folyamatát\, melyekhez az ászanák (testgyakorlatok) és a pránájámák (légzés szabályozás) megteremtik az egyéni feltételeket és képességeket.” – Szvámí Visnu-dévánanda \nFELÉPÍTÉS\n\nRelaxáció: Teljes ellazulás fizikai\, mentális és lelki szinten.\nMeditáció: Segítségével megszabadulhatunk minden negatív tulajdonságunktól\, a belső harmónia és béke állandósul bennünk.\nElőkészítő gyakorlatok: Átmozgatjuk szemizmainkat és nyakizmainkat.\nPránájámák: Légzőgyakorlatok\, amelyek segítségével életvidámak és energikusak lehetünk.\nSzúrja namaszkára – Napüdvözlet bemelegítő\, energetizáló sor.\n12 alapászana: Az ászanák vagy testhelyzetek a vázizmok fejlődése mellett hatással vannak belső szerveink működésére is\, így fenntartva vagy helyreállítva egészségünket. Mi a mesterünk által összeállított ászanasort gyakoroljuk.\nKírtana: a mai kor embere számára a jóga leghatékonyabb eszköze: közösségben együtt énekelni Isten neveit. Ettől hatalmas erő keletkezik\, mely az egyénre és az egész világra egyaránt jótékony hatással van:\n\n„Felemelő gondolatokat ébresztenek mások elméjében\, vigaszt és erőt nyújtanak minden embernek\, békét\, harmóniát\, egyetértést teremtenek. A negatív erőket gyorsan megsemmisítik\, és boldogságot hoznak az egész világnak.” – Szvámí Sivánanda \nVáljon kedves teljességedre!\nAUM Namah Sivája \nBÉRLETEK\nVálaszthatsz a bérletek közül kedvedre: \n\n5 alkalmas (2 hónapig érvényes)\n10 alkalmas (10 hétig érvényes)\nHavi korlátlan\n3 havi korlátlan\nÉves korlátlan\n\nTAGDÍJAK ÉS TAGI KEDVEZMÉNYEK ÉRVÉNYESÍTÉSE\nTagdíjak befizetése csak helyszínen\, a Sivananda Jógaközpontban lehetséges.\nTagsággal járó kedvezményes jegyeket\, bérleteket szintén csak a helyszínen\, a Sivananda Jógaközpontban lehetséges megvásárolni.\nMegértéseteket köszönjük!
URL:https://sivananda.hu/esemeny/hatha-jogaora-120-perc-3/
LOCATION:Sivananda Jógaközpont\, Szegfű utca 2.\, Budapest\, Pest\, 1028\, Hungary
CATEGORIES:Gyakorló óra
ATTACH;FMTTYPE=image/jpeg:https://sivananda.hu/wp-content/uploads/2024/11/joga-gyakorlo-120.jpg
END:VEVENT
BEGIN:VEVENT
DTSTART;TZID=Europe/Budapest:20260421T100000
DTEND;TZID=Europe/Budapest:20260421T120000
DTSTAMP:20260419T211416
CREATED:20250401T100353Z
LAST-MODIFIED:20260330T225752Z
UID:10013081-1776765600-1776772800@sivananda.hu
SUMMARY:Dinamikus jógaóra
DESCRIPTION:Dinamikus jógaóra\n“A kezdő tanítvány feltételezése\, hogy a jóga fizikai gyakorlatokból áll vagy pusztán az ászanákat és a pránájámát foglalja magába\, óriási tévedés. A jógaászanáknak\, a pránájámának\, a bandháknak\, a mudráknak és a krijáknak semmi közük a valódi jógához. Csak segédeszközök a jóga gyakorlásához. A legtöbb ember nem jut túl a jóga fizikai szintjén. Az igazi jóga egy megfelelő tanító vezetése mellett végzett intenzív\, személyes\, fegyelmezett gyakorlás és gondolkodásmód. A jóga a fizikai lét felett álló szellemi áldást ígér. Többnyire semmi vonzót nem tartogat az átlagember számára\, aki általában azonnali eredményre és anyagi jólétre vágyik.” \n“Mindenkinek lehetősége van sikereket elérni a jógában\, de őszinte odaadás és rendszeres\, kitartó spirituális gyakorlás (abhjásza) szükséges hozzá. A spirituális felemelkedés fokozatos. A fejlődés lépésről lépésre következik be.” \nA dinamikus gyakorló jógaóra foglalkozást\, azoknak ajánljuk\, akik:\n\nrendszeresen gyakorolják az alaptanfolyamon elsajátítottakat\,\naz alap légző gyakorlatok hosszabb kivitelezését szeretnék elsajátítani\, ezek hatásait megtapasztalni\,\nszeretnék akár több percig is kitartva megtapasztalni egy ászana mélyebb hatásait is\, akár többször felvéve\,\nszívesen gyakorolnak haladóbb ászana variációkat is.\n\nA dinamikus gyakorló jógaóra 120 perces. Szeretettel várunk kedd délelőttönként! \nGyere\, fejlődjünk együtt!\nAUM Namah Sivája
URL:https://sivananda.hu/esemeny/dinamikus-jogaora-4/
LOCATION:Sivananda Jógaközpont\, Szegfű utca 2.\, Budapest\, Pest\, 1028\, Hungary
CATEGORIES:dinamikus,Gyakorló óra
ATTACH;FMTTYPE=image/jpeg:https://sivananda.hu/wp-content/uploads/2024/11/hold-udvozlet-muhely.jpg
END:VEVENT
BEGIN:VEVENT
DTSTART;TZID=Europe/Budapest:20260424T090000
DTEND;TZID=Europe/Budapest:20260424T110000
DTSTAMP:20260419T211416
CREATED:20250310T093431Z
LAST-MODIFIED:20260330T231249Z
UID:10013202-1777021200-1777028400@sivananda.hu
SUMMARY:Online hatha jógaóra
DESCRIPTION:Online hatha jógaóra\nAz online hatha jógaóra foglalkozásokon az alaptanfolyamon elsajátított ászanákat (jógagyakorlatokat) és pránájámákat (jóga légzőgyakorlatokat) gyakorolhatod\, egyre tovább fejlesztve azokat. \n„Alapvetően a jógatechnikák szintézise az\, ami megtestesíti nemcsak a számos módszert\, melyek teljesen megelevenítik a testet\, hogy az megőrizze erejét\, energiáját\, vitalitását\, hanem ellenőrzés alá vonja az elme kifelé irányuló hajlamát is. Javítja az intellektuális képességeket\, de ezek mellett magában foglalja a meditációt és az önmegvalósítás folyamatát\, melyekhez az ászanák (testgyakorlatok) és a pránájámák (légzés szabályozás) megteremtik az egyéni feltételeket és képességeket.” – Szvámí Visnu-dévánanda \nFELÉPÍTÉS\n\nRelaxáció: Teljes ellazulás fizikai\, mentális és lelki szinten.\nMeditáció: Segítségével megszabadulhatunk minden negatív tulajdonságunktól\, a belső harmónia és béke állandósul bennünk.\nElőkészítő gyakorlatok: Átmozgatjuk szemizmainkat és nyakizmainkat.\nPránájámák: Légzőgyakorlatok\, amelyek segítségével életvidámak és energikusak lehetünk.\nSzúrja namaszkára – Napüdvözlet bemelegítő\, energetizáló sor.\n12 alapászana: Az ászanák vagy testhelyzetek a vázizmok fejlődése mellett hatással vannak belső szerveink működésére is\, így fenntartva vagy helyreállítva egészségünket. Mi a mesterünk által összeállított ászanasort gyakoroljuk.\nKírtana: a mai kor embere számára a jóga leghatékonyabb eszköze: közösségben együtt énekelni Isten neveit. Ettől hatalmas erő keletkezik\, mely az egyénre és az egész világra egyaránt jótékony hatással van:\n\n„Felemelő gondolatokat ébresztenek mások elméjében\, vigaszt és erőt nyújtanak minden embernek\, békét\, harmóniát\, egyetértést teremtenek. A negatív erőket gyorsan megsemmisítik\, és boldogságot hoznak az egész világnak.” – Szvámí Sivánanda \nBÉRLETEK\nAz eddig megvásárolt bérletek továbbra is érvényesek.\nIlletve vásárolhatsz újat (a kiválasztott típusra kattintva): \n\n5 alkalmas (2 hónapig érvényes)\n10 alkalmas (10 hétig érvényes)\nHavi korlátlan\n3 havi korlátlan\nÉves korlátlan\n\nA COVID időszak alatt kérjük vezesd saját bérletedet. \nONLINE JÓGAÓRA\nHa még nem voltál ONLINE órán kattints ide a részletekért. \nBELÉPÉS AZ ÓRÁRA\nAz online jógaóra időpontjában ide kattintva tudsz részt venni az órán. \nBELÉPTÉL AZ ÓRÁRA\n\nKapcsold be a kamerádat\nKapcsold be  amikrofonodat\n\nVáljon kedves teljességedre!\nAUM Namah Sivája
URL:https://sivananda.hu/esemeny/online-hatha-jogaora-13/
LOCATION:Online
CATEGORIES:Gyakorló óra,Online
ATTACH;FMTTYPE=image/jpeg:https://sivananda.hu/wp-content/uploads/2024/11/online-jogaorak-2.jpg
GEO:47.5489752;18.9649448
END:VEVENT
BEGIN:VEVENT
DTSTART;TZID=Europe/Budapest:20260428T100000
DTEND;TZID=Europe/Budapest:20260428T120000
DTSTAMP:20260419T211416
CREATED:20250401T100340Z
LAST-MODIFIED:20260405T160039Z
UID:10013079-1777370400-1777377600@sivananda.hu
SUMMARY:Dinamikus jógaóra
DESCRIPTION:Dinamikus jógaóra\n“A kezdő tanítvány feltételezése\, hogy a jóga fizikai gyakorlatokból áll vagy pusztán az ászanákat és a pránájámát foglalja magába\, óriási tévedés. A jógaászanáknak\, a pránájámának\, a bandháknak\, a mudráknak és a krijáknak semmi közük a valódi jógához. Csak segédeszközök a jóga gyakorlásához. A legtöbb ember nem jut túl a jóga fizikai szintjén. Az igazi jóga egy megfelelő tanító vezetése mellett végzett intenzív\, személyes\, fegyelmezett gyakorlás és gondolkodásmód. A jóga a fizikai lét felett álló szellemi áldást ígér. Többnyire semmi vonzót nem tartogat az átlagember számára\, aki általában azonnali eredményre és anyagi jólétre vágyik.” \n“Mindenkinek lehetősége van sikereket elérni a jógában\, de őszinte odaadás és rendszeres\, kitartó spirituális gyakorlás (abhjásza) szükséges hozzá. A spirituális felemelkedés fokozatos. A fejlődés lépésről lépésre következik be.” \nA dinamikus gyakorló jógaóra foglalkozást\, azoknak ajánljuk\, akik:\n\nrendszeresen gyakorolják az alaptanfolyamon elsajátítottakat\,\naz alap légző gyakorlatok hosszabb kivitelezését szeretnék elsajátítani\, ezek hatásait megtapasztalni\,\nszeretnék akár több percig is kitartva megtapasztalni egy ászana mélyebb hatásait is\, akár többször felvéve\,\nszívesen gyakorolnak haladóbb ászana variációkat is.\n\nA dinamikus gyakorló jógaóra 120 perces. Szeretettel várunk kedd délelőttönként! \nGyere\, fejlődjünk együtt!\nAUM Namah Sivája
URL:https://sivananda.hu/esemeny/dinamikus-jogaora-2/
LOCATION:Sivananda Jógaközpont\, Szegfű utca 2.\, Budapest\, Pest\, 1028\, Hungary
CATEGORIES:dinamikus,Gyakorló óra
ATTACH;FMTTYPE=image/jpeg:https://sivananda.hu/wp-content/uploads/2024/11/hold-udvozlet-muhely.jpg
END:VEVENT
END:VCALENDAR