 BEGIN:VCALENDAR
VERSION:2.0
PRODID:-//Sivánanda Jógaközpont - ECPv6.15.18//NONSGML v1.0//EN
CALSCALE:GREGORIAN
METHOD:PUBLISH
X-ORIGINAL-URL:https://sivananda.hu
X-WR-CALDESC:Események Sivánanda Jógaközpont
REFRESH-INTERVAL;VALUE=DURATION:PT1H
X-Robots-Tag:noindex
X-PUBLISHED-TTL:PT1H
BEGIN:VTIMEZONE
TZID:Europe/Budapest
BEGIN:DAYLIGHT
TZOFFSETFROM:+0100
TZOFFSETTO:+0200
TZNAME:CEST
DTSTART:20240331T010000
END:DAYLIGHT
BEGIN:STANDARD
TZOFFSETFROM:+0200
TZOFFSETTO:+0100
TZNAME:CET
DTSTART:20241027T010000
END:STANDARD
BEGIN:DAYLIGHT
TZOFFSETFROM:+0100
TZOFFSETTO:+0200
TZNAME:CEST
DTSTART:20250330T010000
END:DAYLIGHT
BEGIN:STANDARD
TZOFFSETFROM:+0200
TZOFFSETTO:+0100
TZNAME:CET
DTSTART:20251026T010000
END:STANDARD
BEGIN:DAYLIGHT
TZOFFSETFROM:+0100
TZOFFSETTO:+0200
TZNAME:CEST
DTSTART:20260329T010000
END:DAYLIGHT
BEGIN:STANDARD
TZOFFSETFROM:+0200
TZOFFSETTO:+0100
TZNAME:CET
DTSTART:20261025T010000
END:STANDARD
END:VTIMEZONE
BEGIN:VEVENT
DTSTART;TZID=Europe/Budapest:20250621T080000
DTEND;TZID=Europe/Budapest:20250621T170000
DTSTAMP:20260423T213410
CREATED:20250603T091142Z
LAST-MODIFIED:20250603T091142Z
UID:10014395-1750492800-1750525200@sivananda.hu
SUMMARY:Nemzetközi jóganap
DESCRIPTION:Nemzetközi jóganap\nÜnnepeljük együtt az egységet\, a jóllétet és a jóga ősi bölcsességét! \nAz Amrita Sher-Gil Kulturális Központ (Indiai Nagykövetség) 2025. június 21-én\, szombaton rendezi meg a 11. Nemzetközi Jóganap ünnepséget a Dr. Koltai Jenő Sportközpontban\, a Magyar Testnevelési és Sporttudományi Egyetemen\, Budapesten. \nEz a nap\, amelyet minden évben megünnepelünk\, a harmóniát\, az egészséget és a jóllétet hirdeti – felidézve ennek az ősi gyakorlatnak az időtlen értékeit.\nA program egyszerre lesz átfogó és testet-lelket felfrissítő esemény\, vezetett jógaórával\, amelyet az alábbi oktatók tartanak: \n\nAravinda Kollipara – jógaoktató\, Amrita Sher-Gil Kulturális Központ\, Indiai Nagykövetség\, Budapest\n\n\nBere Anita Gīrdevī – jógaoktató\, a Magyar Jógaoktatók Szövetségének elnökhelyettese\, Magyarország\n\nHogy mindenki számára elérhető és érthető legyen\, az órát két nyelven\, angolul és magyarul tartjuk. Akár tapasztalt jógázó vagy\, akár csak most indultál el az úton\, ez az esemény békés és energiát adó környezetet kínál\, ahol kapcsolatba léphetsz a globális jógaközösséggel. \nA résztvevők érkezési sorrendben jógapólót kapnak és a jógaóra után frissítőket szolgálnak fel. \nAz esemény részletei: \nIdőpont: 2025. június 21.\, szombat reggel 8:00-tól \nHelyszín: Dr. Koltai Jenő Sportközpont\, Magyar Testnevelési és Sporttudományi Egyetem\, Csörsz u. 2-4.\, 1123\, Budapest \nRegisztrációs link: https://forms.gle/M3cMyb8oa2Vpxb1V7 \nKérjük\, hogy a program kezdete előtt 15 perccel érkezz meg a helyszínre. \n 
URL:https://sivananda.hu/esemeny/nemzetkozi-joganap/
LOCATION:Pest
CATEGORIES:Kiemelt
ATTACH;FMTTYPE=image/jpeg:https://sivananda.hu/wp-content/uploads/2025/06/International-Yoga-Day.jpg
END:VEVENT
BEGIN:VEVENT
DTSTART;TZID=Europe/Budapest:20250620T093000
DTEND;TZID=Europe/Budapest:20250629T170000
DTSTAMP:20260423T213410
CREATED:20250226T121254Z
LAST-MODIFIED:20250226T121540Z
UID:10013830-1750411800-1751216400@sivananda.hu
SUMMARY:Hatha Jóga Pradípiká tábor
DESCRIPTION:Hatha Jóga Pradípiká – 10 napos haladó jógatábor\n\nHa szeretnél fejlődni\, magasabb szintre jutni a jóga gyakorlásodban\, ez a tábor Neked szól!\n\nÁszanák\, testtisztítás\, haladó pránájámák\, mudrák\, bandhák\, szattvikus ételek\, kírtana és napi kétszeri meditáció emelik energiaszintünket\, rezgéseinket\, jókedvünket.\n\nA „Hatha jóga pradípiká” című\, a hatha jóga egyik ősi alapműve alapján gyakorolunk\, napi 2×2\,5 órában.\n\nMegismerjük\, feldolgozzuk magát a művet\, kiteljesedett nagy Jógik kommentjeinek segítségével.\nMindezt pilisi\, gyönyörű környezetben\, erdei patak csobogása és madárdal mellett élvezheted.\nA tábort végzett jógaoktatóknak vagy oktató jelölteknek\, illetve rendszeres jógagyakorlóknak javasoljuk.\n\nAlapfeltétel a vegetáriánizmus\, dohány-\, drog-  és alkoholmentes életmód.\n\nA tábort vezetik: Dr. Hovanecz Anikó Ánandí orvos-jógaterapeuta\, Varró Zoltán Ananta jógamester\, Babarczi Anikó Naliní vezető jógaoktató\n\nA tábor helyszíne: Sivánanda Ásram\, Pilisszentlélek\, Hunyadi u. 67.\n\n\nÁrak:\nTeljes ár szobában: 220.000.- Ft/fő/10 nap\nAktív Sivánanda jógaoktatóknak szobában : 174.000.- Ft/fő/10 nap\nSátras teljes ár: 196.000.- Ft/fő/10 nap\nSátras ár aktív Sivánanda jógaoktatóknak: 157.000.- Ft/fő/10 nap\nRegisztrációs díj: 65.000.- Ft/fő/tábor\n\n\nBővebb információ és jelentkezés: IDE kattintva érhető el!
URL:https://sivananda.hu/esemeny/hatha-joga-pradipika-tabor/
LOCATION:Sivánanda ásram\, Hunyadi utca 67.\, Pilisszentlélek\, Komárom-Esztergom\, 2508\, Hungary
CATEGORIES:Kiemelt,Tábor
ATTACH;FMTTYPE=image/jpeg:https://sivananda.hu/wp-content/uploads/2025/02/10-napos-jogatabor.jpg
END:VEVENT
BEGIN:VEVENT
DTSTART;TZID=Europe/Budapest:20250617T113032
DTEND;TZID=Europe/Budapest:20250617T113032
DTSTAMP:20260423T213410
CREATED:20250402T085351Z
LAST-MODIFIED:20250617T093032Z
UID:10013498-1750159832-1750159832@sivananda.hu
SUMMARY:Gyerekjóga (Bejelentkezéssel) - ELMARAD
DESCRIPTION:Gyerekjóga\nA gyerekjógára előzetes bejelentkezést kérünk minden hét csütörtök 12:00-ig! \nA gyerekjóga segít megalapozni a gyermekek testi-lelki-szellemi egészséges fejlődését. \n“Mosolyogj a virágokkal és a zöldellő fűszálakkal. Játssz a pillangókkal\, madarakkal és őzikékkel. Rázz kezet a cserjékkel\, indákkal\, faágakkal. Beszélj a szivárványhoz\, szélhez\, csillagokhoz és a Naphoz. Csevegj a siető patakokkal és a tenger hullámaival. Szólj a szomszédaidhoz\, kutyákhoz\, macskákhoz\, tehenekhez\, emberekhez\, fákhoz\, virágokhoz stb. Akkor életed kiterjedt\, tökéletes\, gazdag és teljes lesz. Felismered majd az egységet\, minden élet közös egységét.\nEzt nehéz szavakkal leírni. Magadnak kell érezned.” – Srí Szvámí Sivánanda \nA gyermekek még emlékeznek belső\, tiszta lényükre\, igazi Önvalójukra. Belső boldogságuk őszinte és sugárzó. Minden pillantásukban\, szemük csillogásában benne foglaltatik a bölcsesség és tudás. Mosolyukkal a feltétel nélküli szeretetre és elfogadásra tanítanak bennünket. Vajon észrevesszük-e\, meghalljuk-e üzeneteiket? A gyerekjóga segít megőrizni ezt a tisztaságot és stabil mentális-\, fizikai hátteret biztosít a felnőtté váláshoz. \nA gyerekjóga foglalkozásra a 6-12 éves korú gyermekeket várjuk. \nGYEREKJÓGA ÓRA FELÉPÍTÉSE\nA gyermekek számára nagyon fontos a biztonságot adó keret\, ezért a foglalkozások elejét és végét mindig ugyanúgy építjük fel. \n\nBevezetés-ráhangolódás: Az „AUM” mantrát hangosan\, együtt zengetjük\, miközben a test ellazul\, az elme lecsendesedik\, szívünk szeretete összeforr.\nBemelegítő gyakorlatok: Átmozgatjuk az izmokat\, inakat\, ínszalagokat felkészítve a testet a nagyobb mozgások és ászanák kivitelezéséhez.\nSzemgyakorlatok: Erősítik a látást\, segítik a koncentrációt\, szélesítik a „látókört”.\nÁszanák: A jóga rendszer ászanáit játékos formában sajátítják el a gyermekek\, (állatok utánzásával\, vagy mese környezetben). A mozgás olyan életelem\, mint a levegő\, vagy a víz. A gyakorlatok segítenek megszabadulni a feszültségektől\, feloldják a testben az energiablokádokat\, megőrzik\, vagy visszaállítják az egészség egyensúlyát. A gyermekek megismerik és megszeretik testüket\, a testséma fejlődik.\nJáték: Számukra a legfontosabb elfoglaltság\, ezen keresztül szereznek tapasztalatokat\, fejlődnek különböző készségeik: figyelem\, koncentráció\, auditív-vizuális érzékelés\, verbális készség\, memória stb.\, és ezen át dolgozzák fel az általuk átélt eseményeket is.\nLégző gyakorlatok: A gyermekek megtanulják a nyugodt és mély légzést. Feltölti őket friss oxigénnel és életenergiával (pránával). Ezáltal egész testük egészségesen tud működni\, megnövekszik az életerejük\, erősödik immunrendszerük.\nA légzésszabályozással (pránájámával) pszichikai és mentális egyensúlyt teremtünk.\nRelaxáció: A relaxáció alatt mesével teremtjük meg a gyermekek jó közérzetét\, hangulatát.\nA mese szimbolikus üzeneteivel képesek lesznek tökéletesen ellazulni\, megszabadulni a negatív lelki-szellemi állapotokból\, rossz kötöttségeiktől\, örömteli gondolatok\, képek\, élmények foglalják el a régiek helyét\, pozitív tudatállapot változás jön létre.\nA mesében egy kívánságot (szankalpát) fogalmazunk meg\, ami olyan mondat\, célkitűzés\, amit el szeretnénk érni\, vagy amiben változni szeretnénk.\nA relaxáció egy folyamat melyet gyakorlással tudnak elmélyíteni\, ennek során megtapasztalják belső békéjüket\, felfedezik az önismeret kalandos útját\, önbizalmuk erősödik. Szabaddá válnak a teljesebb örömteli életre.\nKözös ének: Az óra végén az – AUM Trjambakam (védelmező-gyógyító) szanszkrit mantrát együtt énekeljük\, melyet kedvük szerint a gyermekek indiai hangszereken kísérhetik. A mai kor embere számára a leggyorsabb út a belső béke megtalálásához: a zene és ének vezetnek.\n\nKötetlen beszélgetésekre gyakran sor kerül – az órák elején\, vagy a végén -\, melyeket a jóga tanításaival hozunk összefüggésbe. Bölcsességek\, mesék\, történetek felolvasása\, értelmezése. \nBÉRLET\nVálaszthatsz bérletet is: \n\n5 alkalmas (2 hónapig érvényes)\n10 alkalmas (3 hónapig érvényes)\n\nA gyerekjógára előzetes bejelentkezést kérünk minden hét csütörtök 12:00-ig!
URL:https://sivananda.hu/esemeny/gyerekjoga-4/
LOCATION:Sivananda Jógaközpont\, Szegfű utca 2.\, Budapest\, Pest\, 1028\, Hungary
CATEGORIES:Gyakorló óra,Gyerekjóga,Gyerekjóga és Tini jóga
ATTACH;FMTTYPE=image/jpeg:https://sivananda.hu/wp-content/uploads/2024/11/gyerekjoga-1-scaled.jpg
END:VEVENT
BEGIN:VEVENT
DTSTART;TZID=Europe/Budapest:20250614T100000
DTEND;TZID=Europe/Budapest:20250614T173000
DTSTAMP:20260423T213410
CREATED:20250521T094154Z
LAST-MODIFIED:20250527T104514Z
UID:10014392-1749895200-1749922200@sivananda.hu
SUMMARY:Esztergom-Eredeti Fény Zen templom kirándulás\, testnek és léleknek
DESCRIPTION:Esztergom-Eredeti Fény Zen templom kirándulás\, testnek és léleknek\n\nSzeretettel hívunk egy esztergomi idegenvezetéssel\, kirándulással egybekötött dharma beszédre. A program ingyenes. A programon kívül fizetendő egyénileg: Bazilika kupola belépő\, étterem (opcionális) és a dharma beszéden való részvétel (ez utóbbinak fix díja nincs\, de nem is ingyenes. Az ajánlott minimális adomány 4000 Ft).  \nJelentkezés: A részvételi szándékod IDE KATTINTVA tudod jelezni! Maximum 30 fő jelentkezését tudjuk fogadni.\n\nProgram:\n\n1. Találkozó: 09:30 Esztergom\, a Bazilika előtt található Magyarok Nagyasszonya szobornál\n(Ingyenes parkolás a Bazilika melletti parkolóban)\n2. Bemutatkozás\, néhány mondat a városról és a Főszékesegyházról.\n3. Látogatás a Bazilikában\, a Bakócz-kápolna megtekintése\, amely az egyetlen épségben fennmaradt magyar reneszánsz építmény. A templomtér és a kápolna ingyenesen látogatható. 10:15-ig\n4. Felmegyünk a 70 méter magas kupolába\, amelynek egészen különleges akusztikája van és ahonnan gyönyörű látvány tárul majd elénk. Jegyár: 2800 Ft\nAki nem szeretne feljönni\, velük a Panorámateremben találkozunk 11 óra körül. A Panorámateremben kávézó is található és ingyenes a belépő.\n5. Séta a Vízivárosban és a Duna-parti sétányon a Prímási palota és a Szent Ignác-plébániatemplom érintésével.\n4. Ebédszünet hozott falatokból\, vagy a Prímás Pince étteremben.\nÉtlap: https://www.primaspince.hu/hu/images/pdf/2025.etlap\,itallap.tavasz.pdf\n5. 14:00 Továbbindulás a festői szépségű Búbánatvölgyben található Eredeti Fény Zen Templomhoz.\n6. 15:00-16:30 Részvétel Csong An Szunim és Omkāra Veres András közös Dharma beszédén\, melynek címe: „Van-e igazság a Földön? Gondolatok a karmáról a jóga és a zen nézőpontjából.”.\n7. 16:30-17:30 Körbevezetés és ismerkedés a koreai Zen formavilágában épült templom épületekkel\, a közösséggel és az önellátó gazdálkodásukkal.\n8. 17:30 HazaindulásIdegenvezetőnk: Kiss Gyula jógaoktatóA részvételi szándékod IDE KATTINTVA tudod jelezni!
URL:https://sivananda.hu/esemeny/esztergom-eredeti-feny-zen-templom-kirandulas-testnek-es-leleknek/
LOCATION:Eredeti Fény Zen Templom\, Esztergom\, Búbosbanka 61\, Komárom-Esztergom\, 2500\, Hungary
CATEGORIES:Kiemelt,Műhely
ATTACH;FMTTYPE=image/jpeg:https://sivananda.hu/wp-content/uploads/2025/05/esztergom1.jpg
END:VEVENT
BEGIN:VEVENT
DTSTART;TZID=Europe/Budapest:20250612T170000
DTEND;TZID=Europe/Budapest:20250612T180000
DTSTAMP:20260423T213410
CREATED:20250402T085346Z
LAST-MODIFIED:20250612T074423Z
UID:10013497-1749747600-1749751200@sivananda.hu
SUMMARY:Gyerekjóga (bejelentkezéssel) - ELMARAD
DESCRIPTION:Gyerekjóga\nA gyerekjógára előzetes bejelentkezést kérünk minden hét csütörtök 12:00-ig! \nA gyerekjóga segít megalapozni a gyermekek testi-lelki-szellemi egészséges fejlődését. \n“Mosolyogj a virágokkal és a zöldellő fűszálakkal. Játssz a pillangókkal\, madarakkal és őzikékkel. Rázz kezet a cserjékkel\, indákkal\, faágakkal. Beszélj a szivárványhoz\, szélhez\, csillagokhoz és a Naphoz. Csevegj a siető patakokkal és a tenger hullámaival. Szólj a szomszédaidhoz\, kutyákhoz\, macskákhoz\, tehenekhez\, emberekhez\, fákhoz\, virágokhoz stb. Akkor életed kiterjedt\, tökéletes\, gazdag és teljes lesz. Felismered majd az egységet\, minden élet közös egységét.\nEzt nehéz szavakkal leírni. Magadnak kell érezned.” – Srí Szvámí Sivánanda \nA gyermekek még emlékeznek belső\, tiszta lényükre\, igazi Önvalójukra. Belső boldogságuk őszinte és sugárzó. Minden pillantásukban\, szemük csillogásában benne foglaltatik a bölcsesség és tudás. Mosolyukkal a feltétel nélküli szeretetre és elfogadásra tanítanak bennünket. Vajon észrevesszük-e\, meghalljuk-e üzeneteiket? A gyerekjóga segít megőrizni ezt a tisztaságot és stabil mentális-\, fizikai hátteret biztosít a felnőtté váláshoz. \nA gyerekjóga foglalkozásra a 6-12 éves korú gyermekeket várjuk. \nGYEREKJÓGA ÓRA FELÉPÍTÉSE\nA gyermekek számára nagyon fontos a biztonságot adó keret\, ezért a foglalkozások elejét és végét mindig ugyanúgy építjük fel. \n\nBevezetés-ráhangolódás: Az „AUM” mantrát hangosan\, együtt zengetjük\, miközben a test ellazul\, az elme lecsendesedik\, szívünk szeretete összeforr.\nBemelegítő gyakorlatok: Átmozgatjuk az izmokat\, inakat\, ínszalagokat felkészítve a testet a nagyobb mozgások és ászanák kivitelezéséhez.\nSzemgyakorlatok: Erősítik a látást\, segítik a koncentrációt\, szélesítik a „látókört”.\nÁszanák: A jóga rendszer ászanáit játékos formában sajátítják el a gyermekek\, (állatok utánzásával\, vagy mese környezetben). A mozgás olyan életelem\, mint a levegő\, vagy a víz. A gyakorlatok segítenek megszabadulni a feszültségektől\, feloldják a testben az energiablokádokat\, megőrzik\, vagy visszaállítják az egészség egyensúlyát. A gyermekek megismerik és megszeretik testüket\, a testséma fejlődik.\nJáték: Számukra a legfontosabb elfoglaltság\, ezen keresztül szereznek tapasztalatokat\, fejlődnek különböző készségeik: figyelem\, koncentráció\, auditív-vizuális érzékelés\, verbális készség\, memória stb.\, és ezen át dolgozzák fel az általuk átélt eseményeket is.\nLégző gyakorlatok: A gyermekek megtanulják a nyugodt és mély légzést. Feltölti őket friss oxigénnel és életenergiával (pránával). Ezáltal egész testük egészségesen tud működni\, megnövekszik az életerejük\, erősödik immunrendszerük.\nA légzésszabályozással (pránájámával) pszichikai és mentális egyensúlyt teremtünk.\nRelaxáció: A relaxáció alatt mesével teremtjük meg a gyermekek jó közérzetét\, hangulatát.\nA mese szimbolikus üzeneteivel képesek lesznek tökéletesen ellazulni\, megszabadulni a negatív lelki-szellemi állapotokból\, rossz kötöttségeiktől\, örömteli gondolatok\, képek\, élmények foglalják el a régiek helyét\, pozitív tudatállapot változás jön létre.\nA mesében egy kívánságot (szankalpát) fogalmazunk meg\, ami olyan mondat\, célkitűzés\, amit el szeretnénk érni\, vagy amiben változni szeretnénk.\nA relaxáció egy folyamat melyet gyakorlással tudnak elmélyíteni\, ennek során megtapasztalják belső békéjüket\, felfedezik az önismeret kalandos útját\, önbizalmuk erősödik. Szabaddá válnak a teljesebb örömteli életre.\nKözös ének: Az óra végén az – AUM Trjambakam (védelmező-gyógyító) szanszkrit mantrát együtt énekeljük\, melyet kedvük szerint a gyermekek indiai hangszereken kísérhetik. A mai kor embere számára a leggyorsabb út a belső béke megtalálásához: a zene és ének vezetnek.\n\nKötetlen beszélgetésekre gyakran sor kerül – az órák elején\, vagy a végén -\, melyeket a jóga tanításaival hozunk összefüggésbe. Bölcsességek\, mesék\, történetek felolvasása\, értelmezése. \nBÉRLET\nVálaszthatsz bérletet is: \n\n5 alkalmas (2 hónapig érvényes)\n10 alkalmas (3 hónapig érvényes)\n\nA gyerekjógára előzetes bejelentkezést kérünk minden hét csütörtök 12:00-ig!
URL:https://sivananda.hu/esemeny/gyerekjoga-3/
LOCATION:Sivananda Jógaközpont\, Szegfű utca 2.\, Budapest\, Pest\, 1028\, Hungary
CATEGORIES:Gyakorló óra,Gyerekjóga,Gyerekjóga és Tini jóga
ATTACH;FMTTYPE=image/jpeg:https://sivananda.hu/wp-content/uploads/2024/11/gyerekjoga-1-scaled.jpg
END:VEVENT
BEGIN:VEVENT
DTSTART;TZID=Europe/Budapest:20250609T060000
DTEND;TZID=Europe/Budapest:20250609T235900
DTSTAMP:20260423T213410
CREATED:20250523T101140Z
LAST-MODIFIED:20250523T101253Z
UID:10014393-1749448800-1749513540@sivananda.hu
SUMMARY:ZÁRVA VAGYUNK - Áldott Pünkösdölést!
DESCRIPTION:ZÁRVA VAGYUNK – Áldott Pünkösdölést!\nJúnius  9-én zárva vagyunk. \nPünkösdi harangok \nOlyan szépen cseng a harang\,\nMintha nem is harang volna\,\nhanem ezer harangvirág\nImádságos szava szólna. \nPiros pünkösd vasárnapján\nPiros rózsa nyíl a kertben\,\nKis szívünkben tiszta öröm\nImádsága énekeljen. \nPiros pünkösd vasárnapján\nSzálljon reánk a szentlélek\,\nS térdre hullva mondjunk hálát\nA mindenség Istenének. \n– Benedek Elek \nÁldott pünkösdölést kívánunk! \n*** \nVÁRUNK SZERETETTEL AZ ÉV MINDEN NAPJÁN A NEKED VALÓ JÓGÁVAL\n\nJógatanfolyamok kezdőknek és haladóknak.\nOktató képzések.\nJógafilozófia az alapoktól a felsőfokig.\nJógaterápia és ájurvéda.\nJógaéletmód\, elvonulások és jógatáborok.\n\n„A Jóga gyakorlásával megnő az energiád\, az életerőd\, az élethosszod és az egészséged szintje.” – Szvámí Sivánanda \n„Bárki jógázhat\, nem számít\, mennyi idős\, milyen vallású\, milyenek az anyagi és egyéb körülményei. Fiatal vagy öreg\, beteg vagy egészséges – mindenkinek hasznára válhat ez az évezredes tudomány.”  – Szvámí Visnu-dévánanda \nLátogass el a FACEBOOK oldalunkra is\, ahol folyamatos friss híreket és tanításokat olvashatsz a jógával kapcsolatban.
URL:https://sivananda.hu/esemeny/zarva-vagyunk-aldott-punkosdolest/
LOCATION:Sivananda Jógaközpont\, Szegfű utca 2.\, Budapest\, Pest\, 1028\, Hungary
CATEGORIES:Gyakorló óra
ATTACH;FMTTYPE=image/jpeg:https://sivananda.hu/wp-content/uploads/2025/05/Sivananda-portre-scaled.jpg
END:VEVENT
BEGIN:VEVENT
DTSTART;TZID=Europe/Budapest:20250605T170000
DTEND;TZID=Europe/Budapest:20250605T180000
DTSTAMP:20260423T213410
CREATED:20250402T085409Z
LAST-MODIFIED:20250605T100120Z
UID:10013500-1749142800-1749146400@sivananda.hu
SUMMARY:Gyerekjóga -ELMARAD
DESCRIPTION:Gyerekjóga\nA gyerekjógára előzetes bejelentkezést kérünk minden hét csütörtök 12:00-ig! \nA gyerekjóga segít megalapozni a gyermekek testi-lelki-szellemi egészséges fejlődését. \n“Mosolyogj a virágokkal és a zöldellő fűszálakkal. Játssz a pillangókkal\, madarakkal és őzikékkel. Rázz kezet a cserjékkel\, indákkal\, faágakkal. Beszélj a szivárványhoz\, szélhez\, csillagokhoz és a Naphoz. Csevegj a siető patakokkal és a tenger hullámaival. Szólj a szomszédaidhoz\, kutyákhoz\, macskákhoz\, tehenekhez\, emberekhez\, fákhoz\, virágokhoz stb. Akkor életed kiterjedt\, tökéletes\, gazdag és teljes lesz. Felismered majd az egységet\, minden élet közös egységét.\nEzt nehéz szavakkal leírni. Magadnak kell érezned.” – Srí Szvámí Sivánanda \nA gyermekek még emlékeznek belső\, tiszta lényükre\, igazi Önvalójukra. Belső boldogságuk őszinte és sugárzó. Minden pillantásukban\, szemük csillogásában benne foglaltatik a bölcsesség és tudás. Mosolyukkal a feltétel nélküli szeretetre és elfogadásra tanítanak bennünket. Vajon észrevesszük-e\, meghalljuk-e üzeneteiket? A gyerekjóga segít megőrizni ezt a tisztaságot és stabil mentális-\, fizikai hátteret biztosít a felnőtté váláshoz. \nA gyerekjóga foglalkozásra a 6-12 éves korú gyermekeket várjuk. \nGYEREKJÓGA ÓRA FELÉPÍTÉSE\nA gyermekek számára nagyon fontos a biztonságot adó keret\, ezért a foglalkozások elejét és végét mindig ugyanúgy építjük fel. \n\nBevezetés-ráhangolódás: Az „AUM” mantrát hangosan\, együtt zengetjük\, miközben a test ellazul\, az elme lecsendesedik\, szívünk szeretete összeforr.\nBemelegítő gyakorlatok: Átmozgatjuk az izmokat\, inakat\, ínszalagokat felkészítve a testet a nagyobb mozgások és ászanák kivitelezéséhez.\nSzemgyakorlatok: Erősítik a látást\, segítik a koncentrációt\, szélesítik a „látókört”.\nÁszanák: A jóga rendszer ászanáit játékos formában sajátítják el a gyermekek\, (állatok utánzásával\, vagy mese környezetben). A mozgás olyan életelem\, mint a levegő\, vagy a víz. A gyakorlatok segítenek megszabadulni a feszültségektől\, feloldják a testben az energiablokádokat\, megőrzik\, vagy visszaállítják az egészség egyensúlyát. A gyermekek megismerik és megszeretik testüket\, a testséma fejlődik.\nJáték: Számukra a legfontosabb elfoglaltság\, ezen keresztül szereznek tapasztalatokat\, fejlődnek különböző készségeik: figyelem\, koncentráció\, auditív-vizuális érzékelés\, verbális készség\, memória stb.\, és ezen át dolgozzák fel az általuk átélt eseményeket is.\nLégző gyakorlatok: A gyermekek megtanulják a nyugodt és mély légzést. Feltölti őket friss oxigénnel és életenergiával (pránával). Ezáltal egész testük egészségesen tud működni\, megnövekszik az életerejük\, erősödik immunrendszerük.\nA légzésszabályozással (pránájámával) pszichikai és mentális egyensúlyt teremtünk.\nRelaxáció: A relaxáció alatt mesével teremtjük meg a gyermekek jó közérzetét\, hangulatát.\nA mese szimbolikus üzeneteivel képesek lesznek tökéletesen ellazulni\, megszabadulni a negatív lelki-szellemi állapotokból\, rossz kötöttségeiktől\, örömteli gondolatok\, képek\, élmények foglalják el a régiek helyét\, pozitív tudatállapot változás jön létre.\nA mesében egy kívánságot (szankalpát) fogalmazunk meg\, ami olyan mondat\, célkitűzés\, amit el szeretnénk érni\, vagy amiben változni szeretnénk.\nA relaxáció egy folyamat melyet gyakorlással tudnak elmélyíteni\, ennek során megtapasztalják belső békéjüket\, felfedezik az önismeret kalandos útját\, önbizalmuk erősödik. Szabaddá válnak a teljesebb örömteli életre.\nKözös ének: Az óra végén az – AUM Trjambakam (védelmező-gyógyító) szanszkrit mantrát együtt énekeljük\, melyet kedvük szerint a gyermekek indiai hangszereken kísérhetik. A mai kor embere számára a leggyorsabb út a belső béke megtalálásához: a zene és ének vezetnek.\n\nKötetlen beszélgetésekre gyakran sor kerül – az órák elején\, vagy a végén -\, melyeket a jóga tanításaival hozunk összefüggésbe. Bölcsességek\, mesék\, történetek felolvasása\, értelmezése. \nBÉRLET\nVálaszthatsz bérletet is: \n\n5 alkalmas (2 hónapig érvényes)\n10 alkalmas (3 hónapig érvényes)\n\nA gyerekjógára előzetes bejelentkezést kérünk minden hét csütörtök 12:00-ig!
URL:https://sivananda.hu/esemeny/gyerekjoga-5/
LOCATION:Sivananda Jógaközpont\, Szegfű utca 2.\, Budapest\, Pest\, 1028\, Hungary
CATEGORIES:Gyakorló óra,Gyerekjóga,Gyerekjóga és Tini jóga
ATTACH;FMTTYPE=image/jpeg:https://sivananda.hu/wp-content/uploads/2024/11/gyerekjoga-1-scaled.jpg
END:VEVENT
END:VCALENDAR